BEGIN:VCALENDAR
VERSION:2.0
PRODID:-//AVCP - ECPv6.15.20//NONSGML v1.0//EN
CALSCALE:GREGORIAN
METHOD:PUBLISH
X-WR-CALNAME:AVCP
X-ORIGINAL-URL:https://www.avcp.org
X-WR-CALDESC:Events for AVCP
REFRESH-INTERVAL;VALUE=DURATION:PT1H
X-Robots-Tag:noindex
X-PUBLISHED-TTL:PT1H
BEGIN:VTIMEZONE
TZID:America/New_York
BEGIN:DAYLIGHT
TZOFFSETFROM:-0500
TZOFFSETTO:-0400
TZNAME:EDT
DTSTART:20250309T070000
END:DAYLIGHT
BEGIN:STANDARD
TZOFFSETFROM:-0400
TZOFFSETTO:-0500
TZNAME:EST
DTSTART:20251102T060000
END:STANDARD
BEGIN:DAYLIGHT
TZOFFSETFROM:-0500
TZOFFSETTO:-0400
TZNAME:EDT
DTSTART:20260308T070000
END:DAYLIGHT
BEGIN:STANDARD
TZOFFSETFROM:-0400
TZOFFSETTO:-0500
TZNAME:EST
DTSTART:20261101T060000
END:STANDARD
BEGIN:DAYLIGHT
TZOFFSETFROM:-0500
TZOFFSETTO:-0400
TZNAME:EDT
DTSTART:20270314T070000
END:DAYLIGHT
BEGIN:STANDARD
TZOFFSETFROM:-0400
TZOFFSETTO:-0500
TZNAME:EST
DTSTART:20271107T060000
END:STANDARD
END:VTIMEZONE
BEGIN:VEVENT
DTSTART;TZID=America/New_York:20260420T080000
DTEND;TZID=America/New_York:20260421T170000
DTSTAMP:20260421T080403
CREATED:20260417T220421Z
LAST-MODIFIED:20260417T220421Z
UID:10000198-1776672000-1776790800@www.avcp.org
SUMMARY:Healthy Families Toksook Bay Workshop
DESCRIPTION:  \nAVCP’s Healthy Families is pleased to bring you a Healthy Families Workshop in Toksook Bay on April 20-21\, 2026!Please email healthyfamilies@avcp.org for registration & event details.
URL:https://www.avcp.org/event/healthy-families-toksook-bay-workshop/
LOCATION:Toksook Bay Multipurpose Building
ORGANIZER;CN="Association of Village Council Presidents":MAILTO:communications@avcp.org
END:VEVENT
BEGIN:VEVENT
DTSTART;TZID=America/New_York:20260421T100000
DTEND;TZID=America/New_York:20260421T170000
DTSTAMP:20260421T080403
CREATED:20260407T173723Z
LAST-MODIFIED:20260407T173723Z
UID:10000193-1776765600-1776790800@www.avcp.org
SUMMARY:Scammon Bay Wills Drive
DESCRIPTION:Waqaa Scammon Bay! \nHave you decided what will happen to your land?\n\n\nA will gives you the power to choose who your Native land passes to and helps protect future generations. The AVCP Realty Department is coming to Scammon Bay to help landowners start the Will‑writing process in person.\n\n\n Tuesday\, April 21\, 2026\n 10:00 AM – 5:00 PM\n Scammon Bay Tribal Office\n\n\n Call Angeline\, AVCP Property & Estate Planner at (907) 543‑7368 if you have any questions
URL:https://www.avcp.org/event/scammon-bay-wills-drive/
LOCATION:Scammon Bay Tribal Office
ORGANIZER;CN="Association of Village Council Presidents":MAILTO:communications@avcp.org
END:VEVENT
END:VCALENDAR