BEGIN:VCALENDAR
VERSION:2.0
PRODID:-//AVCP - ECPv6.15.20//NONSGML v1.0//EN
CALSCALE:GREGORIAN
METHOD:PUBLISH
X-WR-CALNAME:AVCP
X-ORIGINAL-URL:https://www.avcp.org
X-WR-CALDESC:Events for AVCP
REFRESH-INTERVAL;VALUE=DURATION:PT1H
X-Robots-Tag:noindex
X-PUBLISHED-TTL:PT1H
BEGIN:VTIMEZONE
TZID:America/Anchorage
BEGIN:DAYLIGHT
TZOFFSETFROM:-0900
TZOFFSETTO:-0800
TZNAME:AKDT
DTSTART:20180311T110000
END:DAYLIGHT
BEGIN:STANDARD
TZOFFSETFROM:-0800
TZOFFSETTO:-0900
TZNAME:AKST
DTSTART:20181104T100000
END:STANDARD
BEGIN:DAYLIGHT
TZOFFSETFROM:-0900
TZOFFSETTO:-0800
TZNAME:AKDT
DTSTART:20190310T110000
END:DAYLIGHT
BEGIN:STANDARD
TZOFFSETFROM:-0800
TZOFFSETTO:-0900
TZNAME:AKST
DTSTART:20191103T100000
END:STANDARD
BEGIN:DAYLIGHT
TZOFFSETFROM:-0900
TZOFFSETTO:-0800
TZNAME:AKDT
DTSTART:20200308T110000
END:DAYLIGHT
BEGIN:STANDARD
TZOFFSETFROM:-0800
TZOFFSETTO:-0900
TZNAME:AKST
DTSTART:20201101T100000
END:STANDARD
END:VTIMEZONE
BEGIN:VTIMEZONE
TZID:UTC
BEGIN:STANDARD
TZOFFSETFROM:+0000
TZOFFSETTO:+0000
TZNAME:UTC
DTSTART:20170101T000000
END:STANDARD
END:VTIMEZONE
BEGIN:VEVENT
DTSTART;TZID=America/Anchorage:20190521T080000
DTEND;TZID=America/Anchorage:20190522T170000
DTSTAMP:20260425T205120
CREATED:20190419T023151Z
LAST-MODIFIED:20260220T114425Z
UID:10000125-1558425600-1558544400@www.avcp.org
SUMMARY:Tribal Court Master Series Training\, Part 2
DESCRIPTION:REGISTRATION IS DUE BEFORE Friday\, May 3\,2019 @ 5:00 PM. \n\nThe AVCP Tribal Justice Department\, in collaboration with the AVCP Tribal Services Department\, will be hosting our 2019 TRIBAL COURT MASTER SERIES TRAINING in a four-part series.  Part two\, scheduled for May 21 & 22\, 2019\, will discuss Tribal Court case operations and procedures. \nPresentation topics will include: \n\nGeneral Procedures/Processes\nPre-Filing\nPendency of the Case\nAdjudication and Post-Adjudication\nAppellate Court Process/Procedure\nClerk Responsibilities and Best Practices\n\nDuring this four-part series trainings\, we hope that all participants will develop a clear understanding of everything pertinent and relating to Tribal Courts in Alaska. \nThe training is open for AVCP Member Tribal Court Judges\, Clerks\, Court Administrators and Tribal Council Members that act as Tribal Courts and will focus on case operations and procedures. The training will be concluded by May 22\, 2019\, Participants can expect to travel home on May 23\, 2019. \nTravel\, lodging and Per diem is provided for up to 80 people from the AVCP tribes if necessary. \nAVCP will provide scholarships for up to 2 people from each community with precedence being given to tribal court staff. \nThe training is open for whomever would like to join.  If AVCP is not able to offer travel assistance\, the tribe or individual will be responsible for paying that individuals travel\, lodging and per diem. Space is limited.
URL:https://www.avcp.org/event/tribal-court-master-series-training-part-2/
LOCATION:Alaska Bible Seminary in Bethel\, Alaska\, 481B 3rd Ave.\, Bethel\, AK\, 99559\, United States
CATEGORIES:Training
ATTACH;FMTTYPE=:
END:VEVENT
BEGIN:VEVENT
DTSTART;VALUE=DATE:20190416
DTEND;VALUE=DATE:20190418
DTSTAMP:20260425T205120
CREATED:20190202T071257Z
LAST-MODIFIED:20190202T071257Z
UID:10000111-1555372800-1555545599@www.avcp.org
SUMMARY:Tribal Court Master Series Training\, Part 1: Tribal Court Set-Up
DESCRIPTION:The AVCP Tribal Justice Department\, in collaboration with the AVCP Tribal Services Department\, will be hosting our 2019 TRIBAL COURT MASTER SERIES TRAININGS in a four-part series of trainings.  Part one\, scheduled for April 16-17\, 2019\, will discuss Tribal Court Set-up and will be held at the Alaska Bible Seminary in Bethel\, Alaska. Presentation topics will include: \n\nCourt development and set-up\nCase management\nCourt Personnel\nInter-Tribal Court\nJudicial Codes\n\nDuring this four-part series training\, we hope that all participants will develop a clear understanding of everything pertinent and relating to Tribal Courts in Alaska. The training is open for AVCP Member Tribal Court Judges\, Clerks\, Court Administrators and Tribal Council Members that act as Tribal Courts and will focus on the entirety of a Tribal Court Set-up. The training will be concluded by April 17th\, 2019\, Participants can expect to travel home on April 18\, 2019. \nTravel\, lodging and per diem is provided for up to 60 of people from the AVCP tribes if necessary. AVCP will provide scholarships for up to 2 people from each community with precedence being given to tribal court staff. The training is open for whomever would like to join.  If AVCP is not able to offer travel assistance\, the tribe or individual will be responsible for paying that individuals travel\, lodging and per diem. Space is limited.
URL:https://www.avcp.org/event/tribal-court-master-series-training-part-1-tribal-court-set-up/
LOCATION:Alaska Bible Seminary in Bethel\, Alaska\, 481B 3rd Ave.\, Bethel\, AK\, 99559\, United States
CATEGORIES:Training
ATTACH;FMTTYPE=:
END:VEVENT
BEGIN:VEVENT
DTSTART;TZID=UTC:20180913T083000
DTEND;TZID=UTC:20180914T170000
DTSTAMP:20260425T205120
CREATED:20180818T052418Z
LAST-MODIFIED:20260220T121054Z
UID:10000047-1536827400-1536944400@www.avcp.org
SUMMARY:Culturally Relevant Domestic Violence Training
DESCRIPTION:Navegluku Nangtauyaraq Tegungiggluku-llu Yuungnaqucirput\nBreaking the cycle and taking back our way of life. \nEveryone is welcome! \nJoin us to discuss how we as Indigenous villages can create a local response to domestic violence and sexual assault . We understand our communities and can create a safer future for our people.\nHosted by AVCP’s Tribal Justice Center and the Alaska Native Women’s Resource Center. \nRegistration is now closed. \n  \nIf you have any questions regarding this event\, please contact: \nDenise Nerby\nTribal Justice Acting Director\ndnerby@avcp.org \nCharlene Wuya\nTribal Services Assistant Director\ncwuya@avcp.org \nSinea Williams\nTribal Justice Program Coordinator\nswilliams@avcp.org \nVirginia Charlie\nTribal Services Secretary\nvcharlie@avcp.org \nP.O. Box 219\nBethel\, AK 99559\nPhone: 907-543-8550 907-543-7380\nFax: 907-543-7379 \n 
URL:https://www.avcp.org/event/culturally-relevant-domestic-violence-training/
LOCATION:Alaska Bible Seminary in Bethel\, Alaska\, 481B 3rd Ave.\, Bethel\, AK\, 99559\, United States
CATEGORIES:Training
END:VEVENT
END:VCALENDAR