BEGIN:VCALENDAR
VERSION:2.0
PRODID:-//AVCP - ECPv6.15.20//NONSGML v1.0//EN
CALSCALE:GREGORIAN
METHOD:PUBLISH
X-WR-CALNAME:AVCP
X-ORIGINAL-URL:https://www.avcp.org
X-WR-CALDESC:Events for AVCP
REFRESH-INTERVAL;VALUE=DURATION:PT1H
X-Robots-Tag:noindex
X-PUBLISHED-TTL:PT1H
BEGIN:VTIMEZONE
TZID:UTC
BEGIN:STANDARD
TZOFFSETFROM:+0000
TZOFFSETTO:+0000
TZNAME:UTC
DTSTART:20180101T000000
END:STANDARD
END:VTIMEZONE
BEGIN:VEVENT
DTSTART;TZID=UTC:20190522T110000
DTEND;TZID=UTC:20190522T153000
DTSTAMP:20260425T203118
CREATED:20190517T001814Z
LAST-MODIFIED:20190517T001814Z
UID:10000128-1558522800-1558539000@www.avcp.org
SUMMARY:Kwigillingok Wills Drive
DESCRIPTION:
URL:https://www.avcp.org/event/kwigillingok-wills-drive/
LOCATION:Kwigillingok Tribal Office\, Kwigillingok\, AK\, 99622\, United States
CATEGORIES:Event
ATTACH;FMTTYPE=:
END:VEVENT
END:VCALENDAR