BEGIN:VCALENDAR
VERSION:2.0
PRODID:-//AVCP - ECPv6.15.20//NONSGML v1.0//EN
CALSCALE:GREGORIAN
METHOD:PUBLISH
X-WR-CALNAME:AVCP
X-ORIGINAL-URL:https://www.avcp.org
X-WR-CALDESC:Events for AVCP
REFRESH-INTERVAL;VALUE=DURATION:PT1H
X-Robots-Tag:noindex
X-PUBLISHED-TTL:PT1H
BEGIN:VTIMEZONE
TZID:America/Anchorage
BEGIN:DAYLIGHT
TZOFFSETFROM:-0900
TZOFFSETTO:-0800
TZNAME:AKDT
DTSTART:20190310T110000
END:DAYLIGHT
BEGIN:STANDARD
TZOFFSETFROM:-0800
TZOFFSETTO:-0900
TZNAME:AKST
DTSTART:20191103T100000
END:STANDARD
BEGIN:DAYLIGHT
TZOFFSETFROM:-0900
TZOFFSETTO:-0800
TZNAME:AKDT
DTSTART:20200308T110000
END:DAYLIGHT
BEGIN:STANDARD
TZOFFSETFROM:-0800
TZOFFSETTO:-0900
TZNAME:AKST
DTSTART:20201101T100000
END:STANDARD
BEGIN:DAYLIGHT
TZOFFSETFROM:-0900
TZOFFSETTO:-0800
TZNAME:AKDT
DTSTART:20210314T110000
END:DAYLIGHT
BEGIN:STANDARD
TZOFFSETFROM:-0800
TZOFFSETTO:-0900
TZNAME:AKST
DTSTART:20211107T100000
END:STANDARD
END:VTIMEZONE
BEGIN:VEVENT
DTSTART;TZID=America/Anchorage:20200826T130000
DTEND;TZID=America/Anchorage:20200826T150000
DTSTAMP:20260425T161921
CREATED:20200804T001019Z
LAST-MODIFIED:20200804T001019Z
UID:10000057-1598446800-1598454000@www.avcp.org
SUMMARY:Public Hearing
DESCRIPTION:The Association of Village Council President Education\, Employment\, Training & Child Care Department will be submitting our P.L. 102-477 Plan for FY 2021 to FY 2023. Our plan includes the Child Care Development Services. Our 477 plan is available\, upon request\, by calling 1-800-476-3521\, extension 7404\, and at AVCP’s main office in Bethel. Persons wishing to comment on the proposed plan are asked to use the toll-free conference number to participate in the public hearing. The public hearing is your chance to make your views known about all aspects of child care provided by your CCDF Lead agency\, including: \n\nCoordination of Services\nQuality Improvement\nEligibility and Priorities of Services\n\nFor more information\, please call 1-800-478-3157 ext: 7404
URL:https://www.avcp.org/event/public-hearing/
LOCATION:Resource Center\, Corner of 3rd Ave. and Main St.\, Bethel\, AK\, 99559\, United States
CATEGORIES:Event
ATTACH;FMTTYPE=image/jpeg:https://www.avcp.org/wp-content/uploads/2020/08/110305814_1648458405318589_4387786260892235404_o-1.jpg
END:VEVENT
END:VCALENDAR